BEGIN:VCALENDAR
VERSION:2.0
PRODID:icalendar-ruby
CALSCALE:GREGORIAN
METHOD:PUBLISH
BEGIN:VEVENT
DTSTAMP:20260422T132052Z
UID:443-2361005@stphilipcedar.ca
DTSTART:20260428T170000Z
DTEND:20260428T183000Z
CLASS:PUBLIC
CREATED:20260206T131553
DESCRIPTION:Think you know everything Anglican? Whether you are just starti
 ng your faith journey or are a cradle Anglican\, there is always more to l
 earn! Join us at St. Philip for four sessions of Anglican 101 as we explor
 e what it means to be Anglican and why we do what we do. This is great pre
 p for anyone interested in Baptism\, Confirmation\, Reaffirmation\, or Rec
 eption.\nSession One\nAnglican History A Snapshot 1534-Present\nMarch 17\,
  2026\n10am or 5:30pm\nPresenter: The Rev. Dr. Rob James\nRob is British\,
  having moved to Canada in 2022. He has several degrees in Theology\, incl
 uding a PhD from SOAS\, University of London. He has been a Parish Priest 
 and worked in a Cathedral in the UK\, and he has taught Theology in the UK
  and in Canada. He is married to Jean\, a secondary school mathematics tea
 cher by profession. He enjoys walking\, and generally being outdoors\, ast
 ronomy\, and amateur dramatics.\nSession Two\nExplaining the Eucharist: Wh
 y We Do What We Do\nMarch 24\, 2026\n10am or 5:30pm\nPresenter: The Ven. B
 rian Evans\nBrian was born in Saskatchewan smack dab into the middle of th
 e “Baby Boomer’s” and raised on farm in a small rural community. His
  education started in a one room school at Dewar Lake School No. 2244. Fol
 lowing Grade 12 he started to work in the local municipal office to appren
 tice as a Local Government Administrator. Within a year he was appointed t
 he administrator for a Rural Municipality and Urban Village. A position he
  held for 16 years. During that time he was requested to be the 1st manage
 r for a local Credit Union which was started in the community. After 16 ye
 ars in Local Government Administration he was accepted for study at the Co
 llege of Emmanuel and St. Chad in Saskatoon\, Saskatchewan an Anglican Sem
 inary. Upon Graduation he was ordained in the Anglican Church. Brian has b
 een involved in a number of community events and organizations over the ye
 ars including being one of the organizers for Rural AIDS Advisory Teams in
  Saskatchewan. Brian is married to Flo\, a professional floral designer\, 
 they have one daughter Katherine.\nSession Three\nAnglican 101: The Basics
  of Anglicanism\nApril 21\, 2026\n10am or 5:30pm\nPresenter: The Rev. Cano
 n Jenny Replogle\nAs Executive Archdeacon\, Jenny helps to empower\, train
 \, and equip ministry in parishes that do not have permanent clergy\, to h
 elp them be more faithful\, healthy\, and effective in their particular co
 ntexts. She also works with parishes who are in a transition of clergy lea
 dership and clergy interested in serving parishes in our diocese. Jenny br
 ings extensive training and background in congregational development to th
 e work of enabling people to live fully into who God created them to be. S
 he and her husband\, the Rev. Jonathan Thomas\, moved to Victoria with two
  small children and one large dog.\nSession Four\nAsk Your Priest Anything
 \nApril 28\, 2026\n10am or 5:30pm\nPresenter: The Rev. Leslie Flynn\nLesli
 e is a lifelong Anglican who grew up in Victoria BC. She has a BA in Psych
 ology with a minor in Human Services from Trinity Western University and a
  Masters of Divinity from Vancouver School of Theology. In her previous li
 fe Rev. Leslie worked as front-line staff in supportive housing and as a c
 oordinator of children\, youth and young adult ministry. Rev. Leslie is pa
 ssionate about creating spaces to encounter Gods love\, through liturgy\, 
 the sacraments\, intergenerational community and discovering the scripture
 s in new and exciting ways. During her time off you will find her reading 
 a good book\, at the swimming pool or playing board games.\n 
LAST-MODIFIED:20260206T131553
LOCATION:St. Philip Cedar
SUMMARY:Anglican 101
URL;VALUE=URI:https://www.stphilipcedar.ca/events/anglican-101/2026-04-28
ATTACH;FILENAME=Anglican 101 newsletter.png;FMTTYPE=image/png:https://dq5pw
 pg1q8ru0.cloudfront.net/2026/02/06/21/12/30/8407bc92-d324-4905-a6dd-5ece98
 ae4c8e/Anglican%20101%20newsletter.png
ATTACH;FILENAME=Anglican 101.pdf;FMTTYPE=application/pdf:https://dq5pwpg1q8
 ru0.cloudfront.net/2026/02/06/21/12/29/a97b7551-8b11-4279-b577-ee8c32c0409
 8/Anglican%20101.pdf
END:VEVENT
END:VCALENDAR
