BEGIN:VCALENDAR
VERSION:2.0
PRODID:icalendar-ruby
CALSCALE:GREGORIAN
METHOD:PUBLISH
BEGIN:VEVENT
DTSTAMP:20260421T123551Z
UID:451-3283306@stphilipcedar.ca
DTSTART:20260502T170000Z
DTEND:20260502T220000Z
CLASS:PUBLIC
CREATED:20260416T102410
DESCRIPTION:Join us on Saturday\, May 2 for St. Philip's Plant and Book Sal
 e.  Update your garden with plants located in front of the church. Then b
 rowse the many books\, puzzles\, and cards for sale in the hall.  We acce
 pt cash or credit. 
LAST-MODIFIED:20260416T102410
LOCATION:St. Philip Cedar
SUMMARY:Plant & Book Sale
URL;VALUE=URI:https://www.stphilipcedar.ca/events/plant-book-sale/2026-05-0
 2
ATTACH;FILENAME=Plant & Book Sale (1).png;FMTTYPE=image/png:https://dq5pwpg
 1q8ru0.cloudfront.net/2026/04/16/17/24/10/57fdeb5d-c179-4ebe-9eed-552b6373
 4d81/Plant%20&%20Book%20Sale%20(1).png
END:VEVENT
END:VCALENDAR
